BEGIN:VCALENDAR
VERSION:2.0
PRODID:-//Ciclismo Viella - ECPv6.15.17.1//NONSGML v1.0//EN
CALSCALE:GREGORIAN
METHOD:PUBLISH
X-WR-CALNAME:Ciclismo Viella
X-ORIGINAL-URL:https://ciclismoviella.com
X-WR-CALDESC:Eventos para Ciclismo Viella
REFRESH-INTERVAL;VALUE=DURATION:PT1H
X-Robots-Tag:noindex
X-PUBLISHED-TTL:PT1H
BEGIN:VTIMEZONE
TZID:UTC
BEGIN:STANDARD
TZOFFSETFROM:+0000
TZOFFSETTO:+0000
TZNAME:UTC
DTSTART:20230101T000000
END:STANDARD
END:VTIMEZONE
BEGIN:VEVENT
DTSTART;TZID=UTC:20250206T170000
DTEND;TZID=UTC:20250206T183000
DTSTAMP:20260421T055033
CREATED:20250124T163440Z
LAST-MODIFIED:20250124T163502Z
UID:10000038-1738861200-1738866600@ciclismoviella.com
SUMMARY:Entrenamiento Carretera
DESCRIPTION:
URL:https://ciclismoviella.com/calendario/entrenamiento-carretera-6/
LOCATION:Velodromo de la Morgal\, As 374 - La morgal\, Llanera\, Asturias\, España
CATEGORIES:Carretera
END:VEVENT
BEGIN:VEVENT
DTSTART;TZID=UTC:20240704T180000
DTEND;TZID=UTC:20240704T193000
DTSTAMP:20260421T055033
CREATED:20240319T091350Z
LAST-MODIFIED:20240628T072107Z
UID:10000019-1720116000-1720121400@ciclismoviella.com
SUMMARY:Entrenamiento Carretera
DESCRIPTION:
URL:https://ciclismoviella.com/calendario/entrenamiento-carretera-5/
LOCATION:Velodromo de la Morgal\, As 374 - La morgal\, Llanera\, Asturias\, España
END:VEVENT
BEGIN:VEVENT
DTSTART;TZID=UTC:20240314T173000
DTEND;TZID=UTC:20240314T190000
DTSTAMP:20260421T055033
CREATED:20240310T224658Z
LAST-MODIFIED:20240310T224658Z
UID:10000016-1710437400-1710442800@ciclismoviella.com
SUMMARY:Entrenamiento carretera
DESCRIPTION:
URL:https://ciclismoviella.com/calendario/entrenamiento-carretera-4/
LOCATION:Velodromo de la Morgal\, As 374 - La morgal\, Llanera\, Asturias\, España
CATEGORIES:Carretera
END:VEVENT
BEGIN:VEVENT
DTSTART;TZID=UTC:20240307T173000
DTEND;TZID=UTC:20240307T190000
DTSTAMP:20260421T055033
CREATED:20240304T182002Z
LAST-MODIFIED:20240304T182002Z
UID:10000014-1709832600-1709838000@ciclismoviella.com
SUMMARY:Entrenamiento carretera
DESCRIPTION:Entrenamiento bicicleta de carretera
URL:https://ciclismoviella.com/calendario/entrenamiento-carretera-3/
LOCATION:Velodromo de la Morgal\, As 374 - La morgal\, Llanera\, Asturias\, España
CATEGORIES:Carretera
END:VEVENT
BEGIN:VEVENT
DTSTART;TZID=UTC:20240229T170000
DTEND;TZID=UTC:20240229T183000
DTSTAMP:20260421T055033
CREATED:20240226T110411Z
LAST-MODIFIED:20240226T110411Z
UID:10000012-1709226000-1709231400@ciclismoviella.com
SUMMARY:Entrenamiento Carretera
DESCRIPTION:
URL:https://ciclismoviella.com/calendario/entrenamiento-carretera-2/
LOCATION:Velodromo de la Morgal\, As 374 - La morgal\, Llanera\, Asturias\, España
CATEGORIES:Carretera
END:VEVENT
BEGIN:VEVENT
DTSTART;TZID=UTC:20240215T170000
DTEND;TZID=UTC:20240215T183000
DTSTAMP:20260421T055033
CREATED:20240212T075301Z
LAST-MODIFIED:20240212T075301Z
UID:10000010-1708016400-1708021800@ciclismoviella.com
SUMMARY:Entrenamiento Carretera
DESCRIPTION:Velodromo la Morgal
URL:https://ciclismoviella.com/calendario/entrenamiento-carretera/
LOCATION:Velodromo de la Morgal\, As 374 - La morgal\, Llanera\, Asturias\, España
END:VEVENT
BEGIN:VEVENT
DTSTART;TZID=UTC:20240208T170000
DTEND;TZID=UTC:20240208T183000
DTSTAMP:20260421T055033
CREATED:20240203T125639Z
LAST-MODIFIED:20240203T125639Z
UID:10000007-1707411600-1707417000@ciclismoviella.com
SUMMARY:Entrenaniemto Carretera
DESCRIPTION:todas
URL:https://ciclismoviella.com/calendario/entrenaniemto-carretera/
LOCATION:Velodromo de la Morgal\, As 374 - La morgal\, Llanera\, Asturias\, España
CATEGORIES:Carretera
END:VEVENT
END:VCALENDAR